BEGIN:VCALENDAR
VERSION:2.0
PRODID:-//wp-events-plugin.com//6.6.4.4//EN
TZID:Europe/Berlin
X-WR-TIMEZONE:Europe/Berlin
BEGIN:VEVENT
UID:63@tkhaaren.de
DTSTART;TZID=Europe/Berlin;VALUE=DATE:20250831
DTEND;TZID=Europe/Berlin;VALUE=DATE:20250901
DTSTAMP:20250214T091542Z
URL:https://www.tkhaaren.de/termine/bezirksschuetzenfest-in-porselen-2025/
SUMMARY:Bezirksschützenfest in Porselen
DESCRIPTION:
CATEGORIES:Auswärts,Öffentlich
LOCATION:Porselen\, Rurtalstr.\, Heinsberg-Porselen\, 52525\, Deutschland
X-APPLE-STRUCTURED-LOCATION;VALUE=URI;X-ADDRESS=Rurtalstr.\, Heinsberg-Pors
 elen\, 52525\, Deutschland;X-APPLE-RADIUS=100;X-TITLE=Porselen:geo:0,0
END:VEVENT
BEGIN:VTIMEZONE
TZID:Europe/Berlin
X-LIC-LOCATION:Europe/Berlin
BEGIN:DAYLIGHT
DTSTART:20250330T030000
TZOFFSETFROM:+0100
TZOFFSETTO:+0200
TZNAME:CEST
END:DAYLIGHT
END:VTIMEZONE
END:VCALENDAR