BEGIN:VCALENDAR
VERSION:2.0
PRODID:-//wp-events-plugin.com//6.6.4.4//EN
TZID:Europe/Berlin
X-WR-TIMEZONE:Europe/Berlin
BEGIN:VEVENT
UID:61@tkhaaren.de
DTSTART;TZID=Europe/Berlin;VALUE=DATE:20250808
DTEND;TZID=Europe/Berlin;VALUE=DATE:20250810
DTSTAMP:20250214T091233Z
URL:https://www.tkhaaren.de/termine/ortsvereinsschiessen/
SUMMARY:Ortsvereinsschießen
DESCRIPTION:
CATEGORIES:Haaren,Öffentlich
LOCATION:Schießstand Haaren\, Haarener Str. 177\, Waldfeucht-Haaren\, 5252
 5\, Deutschland
X-APPLE-STRUCTURED-LOCATION;VALUE=URI;X-ADDRESS=Haarener Str. 177\, Waldfeu
 cht-Haaren\, 52525\, Deutschland;X-APPLE-RADIUS=100;X-TITLE=Schießstand H
 aaren:geo:0,0
END:VEVENT
BEGIN:VTIMEZONE
TZID:Europe/Berlin
X-LIC-LOCATION:Europe/Berlin
BEGIN:DAYLIGHT
DTSTART:20250330T030000
TZOFFSETFROM:+0100
TZOFFSETTO:+0200
TZNAME:CEST
END:DAYLIGHT
END:VTIMEZONE
END:VCALENDAR