BEGIN:VCALENDAR
VERSION:2.0
PRODID:-//wp-events-plugin.com//6.6.4.4//EN
TZID:Europe/Berlin
X-WR-TIMEZONE:Europe/Berlin
BEGIN:VEVENT
UID:51@tkhaaren.de
DTSTART;TZID=Europe/Berlin;VALUE=DATE:20250430
DTEND;TZID=Europe/Berlin;VALUE=DATE:20250501
DTSTAMP:20250214T085740Z
URL:https://www.tkhaaren.de/termine/tanz-in-den-mai/
SUMMARY:Tanz in den Mai
DESCRIPTION:
CATEGORIES:Haaren,Öffentlich
LOCATION:Vereinsheim TK\, Johannesstr. 1\, Waldfeucht-Haaren\, 52525\, Deut
 schland
X-APPLE-STRUCTURED-LOCATION;VALUE=URI;X-ADDRESS=Johannesstr. 1\, Waldfeucht
 -Haaren\, 52525\, Deutschland;X-APPLE-RADIUS=100;X-TITLE=Vereinsheim TK:ge
 o:0,0
END:VEVENT
BEGIN:VTIMEZONE
TZID:Europe/Berlin
X-LIC-LOCATION:Europe/Berlin
BEGIN:DAYLIGHT
DTSTART:20250330T030000
TZOFFSETFROM:+0100
TZOFFSETTO:+0200
TZNAME:CEST
END:DAYLIGHT
END:VTIMEZONE
END:VCALENDAR